BEGIN:VCALENDAR
VERSION:2.0
PRODID:-//Laura Wilde - ECPv6.15.20//NONSGML v1.0//EN
CALSCALE:GREGORIAN
METHOD:PUBLISH
X-WR-CALNAME:Laura Wilde
X-ORIGINAL-URL:https://www.laura-wilde.de
X-WR-CALDESC:Veranstaltungen für Laura Wilde
REFRESH-INTERVAL;VALUE=DURATION:PT1H
X-Robots-Tag:noindex
X-PUBLISHED-TTL:PT1H
BEGIN:VTIMEZONE
TZID:Europe/Berlin
BEGIN:DAYLIGHT
TZOFFSETFROM:+0100
TZOFFSETTO:+0200
TZNAME:CEST
DTSTART:20250330T010000
END:DAYLIGHT
BEGIN:STANDARD
TZOFFSETFROM:+0200
TZOFFSETTO:+0100
TZNAME:CET
DTSTART:20251026T010000
END:STANDARD
BEGIN:DAYLIGHT
TZOFFSETFROM:+0100
TZOFFSETTO:+0200
TZNAME:CEST
DTSTART:20260329T010000
END:DAYLIGHT
BEGIN:STANDARD
TZOFFSETFROM:+0200
TZOFFSETTO:+0100
TZNAME:CET
DTSTART:20261025T010000
END:STANDARD
BEGIN:DAYLIGHT
TZOFFSETFROM:+0100
TZOFFSETTO:+0200
TZNAME:CEST
DTSTART:20270328T010000
END:DAYLIGHT
BEGIN:STANDARD
TZOFFSETFROM:+0200
TZOFFSETTO:+0100
TZNAME:CET
DTSTART:20271031T010000
END:STANDARD
END:VTIMEZONE
BEGIN:VEVENT
DTSTART;VALUE=DATE:20260320
DTEND;VALUE=DATE:20260323
DTSTAMP:20260422T110449
CREATED:20250228T104737Z
LAST-MODIFIED:20250822T105824Z
UID:5307-1773964800-1774223999@www.laura-wilde.de
SUMMARY:Der ATeams-Winter-Schlagerspaß in DE-98559 Oberhof\, Ahorn Panorama Hotel
DESCRIPTION:-> HIER BUCHEN <-\n  \n 
URL:https://www.laura-wilde.de/event/der-ateams-winter-schlagerspass-in-de-98559-oberhof-ahorn-panorama-hotel/
END:VEVENT
END:VCALENDAR